BEGIN:VCALENDAR
VERSION:2.0
PRODID:SchoolNow
CALSCALE:GREGORIAN
BEGIN:VEVENT
UID:99649b20-2b49-11ee-8903-02a7f7f5dfc3
DTSTAMP:20230823T033554Z
SUMMARY:District Office Administration: District Strategic Plan Meeting
LOCATION:Eastmont Junior High School - EJHS-Library
URL;VALUE=URI:https://www.eastmont206.org/ejhs/calendar/4521571/district-of
 fice-administration-district-strategic-plan-meeting
DTSTART:20231011T000000Z
DTEND:20231011T023000Z
END:VEVENT
END:VCALENDAR
