BEGIN:VCALENDAR
VERSION:2.0
PRODID:SchoolNow
CALSCALE:GREGORIAN
BEGIN:VEVENT
UID:9964b75e-2b49-11ee-83ab-02a7f7f5dfc3
DTSTAMP:20230823T033554Z
SUMMARY:District Office Administration: District Strategic Plan Meeting
LOCATION:Eastmont Junior High School - EJHS-Library
URL;VALUE=URI:https://www.eastmont206.org/ejhs/calendar/4521572/district-of
 fice-administration-district-strategic-plan-meeting
DTSTART:20231108T010000Z
DTEND:20231108T033000Z
END:VEVENT
END:VCALENDAR
