BEGIN:VCALENDAR
VERSION:2.0
PRODID:SchoolNow
CALSCALE:GREGORIAN
BEGIN:VEVENT
UID:9964c6e0-2b49-11ee-8657-02a7f7f5dfc3
DTSTAMP:20230823T033555Z
SUMMARY:District Office Administration: District Strategic Plan Meeting
LOCATION:Eastmont Junior High School - EJHS-Library
URL;VALUE=URI:https://www.eastmont206.org/ejhs/calendar/4521573/district-of
 fice-administration-district-strategic-plan-meeting
DTSTART:20240110T010000Z
DTEND:20240110T033000Z
END:VEVENT
END:VCALENDAR
