BEGIN:VCALENDAR
VERSION:2.0
PRODID:SchoolNow
CALSCALE:GREGORIAN
BEGIN:VEVENT
UID:99654458-2b49-11ee-bea2-02a7f7f5dfc3
DTSTAMP:20230823T033555Z
SUMMARY:District Office Administration: District Strategic Plan Meeting
LOCATION:Eastmont Junior High School - EJHS-Library
URL;VALUE=URI:https://www.eastmont206.org/ejhs/calendar/4521575/district-of
 fice-administration-district-strategic-plan-meeting
DTSTART:20240313T000000Z
DTEND:20240313T023000Z
END:VEVENT
END:VCALENDAR
