BEGIN:VCALENDAR
VERSION:2.0
PRODID:SchoolNow
CALSCALE:GREGORIAN
BEGIN:VEVENT
UID:51b0451c-3176-11ee-b8f0-0a58a9feac02
DTSTAMP:20230823T033554Z
SUMMARY:Eastmont Junior High Staff: admin office Red Rover training
LOCATION:Eastmont Junior High School - EJHS-Library
URL;VALUE=URI:https://www.eastmont206.org/ejhs/calendar/4542189/eastmont-ju
 nior-high-staff-admin-office-red-rover-training
DTSTART:20230817T160000Z
DTEND:20230817T190000Z
END:VEVENT
END:VCALENDAR
