BEGIN:VCALENDAR
VERSION:2.0
PRODID:SchoolNow
CALSCALE:GREGORIAN
BEGIN:VEVENT
UID:38070306-32db-11ee-8503-0a58a9feac02
DTSTAMP:20230823T033554Z
SUMMARY:Eastmont Junior High Staff: Food Service Mtg
LOCATION:Eastmont Junior High School - EJHS-Library
URL;VALUE=URI:https://www.eastmont206.org/ejhs/calendar/4547171/eastmont-ju
 nior-high-staff-food-service-mtg
DTSTART:20230823T150000Z
DTEND:20230823T220000Z
END:VEVENT
END:VCALENDAR
