BEGIN:VCALENDAR
VERSION:2.0
PRODID:SchoolNow
CALSCALE:GREGORIAN
BEGIN:VEVENT
UID:186837c4-3572-11ee-8d32-0e86e2d51785
DTSTAMP:20230823T033554Z
SUMMARY:Eastmont Junior High Staff: Senate Kick-Off Meeting
LOCATION:Eastmont Junior High School - EJHS-Commons
URL;VALUE=URI:https://www.eastmont206.org/ejhs/calendar/4555139/eastmont-ju
 nior-high-staff-senate-kick-off-meeting
DTSTART:20230815T210000Z
DTEND:20230816T003000Z
END:VEVENT
END:VCALENDAR
