BEGIN:VCALENDAR
VERSION:2.0
PRODID:SchoolNow
CALSCALE:GREGORIAN
BEGIN:VEVENT
UID:18685506-3572-11ee-aff0-0e86e2d51785
DTSTAMP:20230823T033554Z
SUMMARY:Eastmont Junior High Staff: Safety Care Training- Initial
LOCATION:Eastmont Junior High School - EJHS-Auditorium
URL;VALUE=URI:https://www.eastmont206.org/ejhs/calendar/4555141/eastmont-ju
 nior-high-staff-safety-care-training-initial
DTSTART:20230817T150000Z
DTEND:20230817T220000Z
END:VEVENT
END:VCALENDAR
