BEGIN:VCALENDAR
VERSION:2.0
PRODID:SchoolNow
CALSCALE:GREGORIAN
BEGIN:VEVENT
UID:18688f30-3572-11ee-b3cc-0e86e2d51785
DTSTAMP:20230823T033554Z
SUMMARY:Eastmont Junior High Staff: Safety Care-recert
LOCATION:Eastmont Junior High School - EJHS-Computer Lab
URL;VALUE=URI:https://www.eastmont206.org/ejhs/calendar/4555145/eastmont-ju
 nior-high-staff-safety-care-recert
DTSTART:20230818T150000Z
DTEND:20230818T220000Z
END:VEVENT
END:VCALENDAR
