BEGIN:VCALENDAR
VERSION:2.0
PRODID:SchoolNow
CALSCALE:GREGORIAN
BEGIN:VEVENT
UID:18689c96-3572-11ee-ab8d-0e86e2d51785
DTSTAMP:20230823T033554Z
SUMMARY:Eastmont Junior High Staff: Ukeru training
LOCATION:Eastmont Junior High School - EJHS-Classroom
URL;VALUE=URI:https://www.eastmont206.org/ejhs/calendar/4555146/eastmont-ju
 nior-high-staff-ukeru-training
DTSTART:20230825T150000Z
DTEND:20230825T220000Z
END:VEVENT
END:VCALENDAR
