BEGIN:VCALENDAR
VERSION:2.0
PRODID:SchoolNow
CALSCALE:GREGORIAN
BEGIN:VEVENT
UID:1868b6c2-3572-11ee-8374-0e86e2d51785
DTSTAMP:20230823T033554Z
SUMMARY:Eastmont Junior High Staff: Safety Care training- recert
LOCATION:Eastmont Junior High School - EJHS-Library
URL;VALUE=URI:https://www.eastmont206.org/ejhs/calendar/4555147/eastmont-ju
 nior-high-staff-safety-care-training-recert
DTSTART:20230825T150000Z
DTEND:20230825T220000Z
END:VEVENT
END:VCALENDAR
