BEGIN:VCALENDAR
VERSION:2.0
PRODID:SchoolNow
CALSCALE:GREGORIAN
BEGIN:VEVENT
UID:041105ba-36d7-11ee-8d52-024c14be89e5
DTSTAMP:20230823T033554Z
SUMMARY:Eastmont Junior High Staff: Informed Parents
LOCATION:Eastmont Junior High School - EJHS-Library
URL;VALUE=URI:https://www.eastmont206.org/ejhs/calendar/4560241/eastmont-ju
 nior-high-staff-informed-parents
DTSTART:20230929T010000Z
DTEND:20230929T013000Z
END:VEVENT
END:VCALENDAR
