BEGIN:VCALENDAR
VERSION:2.0
PRODID:SchoolNow
CALSCALE:GREGORIAN
BEGIN:VEVENT
UID:0411557e-36d7-11ee-ad9f-024c14be89e5
DTSTAMP:20230823T033555Z
SUMMARY:Eastmont Junior High Staff: Informed Parents
LOCATION:Eastmont Junior High School - Multiple Spaces
URL;VALUE=URI:https://www.eastmont206.org/ejhs/calendar/4560245/eastmont-ju
 nior-high-staff-informed-parents
DTSTART:20240322T010000Z
DTEND:20240322T013000Z
END:VEVENT
END:VCALENDAR
