BEGIN:VCALENDAR
VERSION:2.0
PRODID:SchoolNow
CALSCALE:GREGORIAN
BEGIN:VEVENT
UID:c988260c-3b05-11ee-8de6-0adf5d7609ab
DTSTAMP:20230823T033554Z
SUMMARY:Eastmont Junior High Staff: Food Service Mtg
LOCATION:Eastmont Junior High School - EJHS-Classroom
URL;VALUE=URI:https://www.eastmont206.org/ejhs/calendar/4574268/eastmont-ju
 nior-high-staff-food-service-mtg
DTSTART:20230822T150000Z
DTEND:20230822T220000Z
END:VEVENT
END:VCALENDAR
