BEGIN:VCALENDAR
VERSION:2.0
PRODID:SchoolNow
CALSCALE:GREGORIAN
BEGIN:VEVENT
UID:3e9a0f66-3f9b-11ee-8fe5-0a979486df99
DTSTAMP:20230823T033555Z
SUMMARY:Eastmont High School Athletics: Eastmont Athletics Practices for po
 or AQI
LOCATION:Eastmont Junior High School - EJHS-Main Gym\, EJHS-Small Gm\, EJHS
 -Wrestling Room\, Sterling Gym-Main\, Sterling-Gym- Aux
URL;VALUE=URI:https://www.eastmont206.org/ejhs/calendar/4599866/eastmont-hi
 gh-school-athletics-eastmont-athletics-practices-for-poor-aqi
DTSTART:20230902T003000Z
DTEND:20230902T040000Z
END:VEVENT
END:VCALENDAR
