BEGIN:VCALENDAR
VERSION:2.0
PRODID:SchoolNow
CALSCALE:GREGORIAN
BEGIN:VEVENT
UID:2a3c3310-4166-11ee-ae9f-0a58a9feac02
DTSTAMP:20230823T033554Z
SUMMARY:Eastmont Junior High Staff: EJHS Athletic Practices (Weather Back-U
 p Plan)
LOCATION:Eastmont Junior High School - EJHS-Commons\, EJHS-Main Gym\, EJHS-
 Small Gm\, EJHS-Wrestling Room
URL;VALUE=URI:https://www.eastmont206.org/ejhs/calendar/4612010/eastmont-ju
 nior-high-staff-ejhs-athletic-practices-weather-back-up-plan
DTSTART:20230921T213000Z
DTEND:20230922T000000Z
END:VEVENT
END:VCALENDAR
