BEGIN:VCALENDAR
VERSION:2.0
PRODID:SchoolNow
CALSCALE:GREGORIAN
BEGIN:VEVENT
UID:2a3da830-4166-11ee-8e17-0a58a9feac02
DTSTAMP:20230823T033554Z
SUMMARY:Eastmont Junior High Staff: EJHS Athletic Practices (Weather Back-U
 p Plan)
LOCATION:Eastmont Junior High School - EJHS-Commons\, EJHS-Main Gym\, EJHS-
 Small Gm\, EJHS-Wrestling Room
URL;VALUE=URI:https://www.eastmont206.org/ejhs/calendar/4612026/eastmont-ju
 nior-high-staff-ejhs-athletic-practices-weather-back-up-plan
DTSTART:20231016T213000Z
DTEND:20231017T000000Z
END:VEVENT
END:VCALENDAR
