BEGIN:VCALENDAR
VERSION:2.0
PRODID:SchoolNow
CALSCALE:GREGORIAN
BEGIN:VEVENT
UID:2a3e2a76-4166-11ee-b91c-0a58a9feac02
DTSTAMP:20230823T033554Z
SUMMARY:Girls 8th Volleyball vs Endeavor Middle School
LOCATION:Eastmont Junior High School - EJHS-Main Gym
URL;VALUE=URI:https://www.eastmont206.org/ejhs/calendar/4612035/girls-8th-v
 olleyball-vs-endeavor-middle-school
DTSTART:20230919T003000Z
DTEND:20230919T020000Z
END:VEVENT
END:VCALENDAR
