BEGIN:VCALENDAR
VERSION:2.0
PRODID:SchoolNow
CALSCALE:GREGORIAN
BEGIN:VEVENT
UID:2a3e36f6-4166-11ee-aa7c-0a58a9feac02
DTSTAMP:20230823T033554Z
SUMMARY:Girls 8th Volleyball vs Frontier Middle School - 8A
LOCATION:Eastmont Junior High School - EJHS-Main Gym
URL;VALUE=URI:https://www.eastmont206.org/ejhs/calendar/4612036/girls-8th-v
 olleyball-vs-frontier-middle-school-8a
DTSTART:20230927T230000Z
DTEND:20230928T001500Z
END:VEVENT
END:VCALENDAR
