BEGIN:VCALENDAR
VERSION:2.0
PRODID:SchoolNow
CALSCALE:GREGORIAN
BEGIN:VEVENT
UID:2a3e4380-4166-11ee-a6a3-0a58a9feac02
DTSTAMP:20230823T033554Z
SUMMARY:Girls 8th Volleyball vs Frontier Middle School - 8B
LOCATION:Eastmont Junior High School - EJHS-Main Gym
URL;VALUE=URI:https://www.eastmont206.org/ejhs/calendar/4612037/girls-8th-v
 olleyball-vs-frontier-middle-school-8b
DTSTART:20230928T003000Z
DTEND:20230928T020000Z
END:VEVENT
END:VCALENDAR
