BEGIN:VCALENDAR
VERSION:2.0
PRODID:SchoolNow
CALSCALE:GREGORIAN
BEGIN:VEVENT
UID:2a3e4fba-4166-11ee-9400-0a58a9feac02
DTSTAMP:20230823T033554Z
SUMMARY:Girls 8th Volleyball vs Ephrata Middle School - 8B
LOCATION:Eastmont Junior High School - EJHS-Main Gym
URL;VALUE=URI:https://www.eastmont206.org/ejhs/calendar/4612038/girls-8th-v
 olleyball-vs-ephrata-middle-school-8b
DTSTART:20231004T230000Z
DTEND:20231005T003000Z
END:VEVENT
END:VCALENDAR
