BEGIN:VCALENDAR
VERSION:2.0
PRODID:SchoolNow
CALSCALE:GREGORIAN
BEGIN:VEVENT
UID:2a3e6428-4166-11ee-bec4-0a58a9feac02
DTSTAMP:20230823T033554Z
SUMMARY:Girls 8th Volleyball vs Ephrata Middle School - 8A
LOCATION:Eastmont Junior High School - EJHS-Main Gym
URL;VALUE=URI:https://www.eastmont206.org/ejhs/calendar/4612039/girls-8th-v
 olleyball-vs-ephrata-middle-school-8a
DTSTART:20231005T003000Z
DTEND:20231005T014500Z
END:VEVENT
END:VCALENDAR
