BEGIN:VCALENDAR
VERSION:2.0
PRODID:SchoolNow
CALSCALE:GREGORIAN
BEGIN:VEVENT
UID:2a3e7440-4166-11ee-8f8f-0a58a9feac02
DTSTAMP:20230823T033554Z
SUMMARY:Girls 8th Volleyball vs Pioneer Middle School - 8B
LOCATION:Eastmont Junior High School - EJHS-Main Gym
URL;VALUE=URI:https://www.eastmont206.org/ejhs/calendar/4612040/girls-8th-v
 olleyball-vs-pioneer-middle-school-8b
DTSTART:20231011T230000Z
DTEND:20231012T001500Z
END:VEVENT
END:VCALENDAR
