BEGIN:VCALENDAR
VERSION:2.0
PRODID:SchoolNow
CALSCALE:GREGORIAN
BEGIN:VEVENT
UID:2a3e90d8-4166-11ee-8ed5-0a58a9feac02
DTSTAMP:20230823T033554Z
SUMMARY:Girls 8th Volleyball vs Chelan Middle School - B
LOCATION:Eastmont Junior High School - EJHS-Main Gym
URL;VALUE=URI:https://www.eastmont206.org/ejhs/calendar/4612042/girls-8th-v
 olleyball-vs-chelan-middle-school-b
DTSTART:20231018T230000Z
DTEND:20231019T001500Z
END:VEVENT
END:VCALENDAR
