BEGIN:VCALENDAR
VERSION:2.0
PRODID:SchoolNow
CALSCALE:GREGORIAN
BEGIN:VEVENT
UID:2a3e9ef2-4166-11ee-8eb4-0a58a9feac02
DTSTAMP:20230823T033554Z
SUMMARY:Girls 8th Volleyball vs Chelan Middle School - A
LOCATION:Eastmont Junior High School - EJHS-Main Gym
URL;VALUE=URI:https://www.eastmont206.org/ejhs/calendar/4612043/girls-8th-v
 olleyball-vs-chelan-middle-school-a
DTSTART:20231019T003000Z
DTEND:20231019T014500Z
END:VEVENT
END:VCALENDAR
