BEGIN:VCALENDAR
VERSION:2.0
PRODID:SchoolNow
CALSCALE:GREGORIAN
BEGIN:VEVENT
UID:854072c8-3f5e-11f1-8159-0a58a9feac02
DTSTAMP:20260423T215102Z
SUMMARY:Wenatchee Soccer Club: Wenatchee Soccer Club Practice
LOCATION:Grant Outdoor Fields - Grant-South Field
URL;VALUE=URI:https://www.eastmont206.org/gra/calendar/9014264/wenatchee-so
 ccer-club-wenatchee-soccer-club-practice
DTSTART:20260402T000000Z
DTEND:20260402T030000Z
END:VEVENT
END:VCALENDAR
