BEGIN:VCALENDAR
VERSION:2.0
PRODID:SchoolNow
CALSCALE:GREGORIAN
BEGIN:VEVENT
UID:b15f71fe-3bc8-11f1-8387-0affffbe4f1d
DTSTAMP:20260419T082058Z
SUMMARY:Wenatchee Soccer Club: Wenatchee Soccer Club Practice
LOCATION:Lee Outdoor Fields - Lee-South Field
URL;VALUE=URI:https://www.eastmont206.org/lee/calendar/9004343/wenatchee-so
 ccer-club-wenatchee-soccer-club-practice
DTSTART:20260404T000000Z
DTEND:20260404T030000Z
END:VEVENT
END:VCALENDAR
