BEGIN:VCALENDAR
VERSION:2.0
PRODID:SchoolNow
CALSCALE:GREGORIAN
BEGIN:VEVENT
UID:ad094390-3bfb-11f1-ae85-0a58a9feac02
DTSTAMP:20260419T142555Z
SUMMARY:Wenatchee Soccer Club: Wenatchee Soccer Club Practice
LOCATION:Lee Outdoor Fields - Lee-South Field
URL;VALUE=URI:https://www.eastmont206.org/lee/calendar/9005107/wenatchee-so
 ccer-club-wenatchee-soccer-club-practice
DTSTART:20260401T000000Z
DTEND:20260401T030000Z
END:VEVENT
END:VCALENDAR
