BEGIN:VCALENDAR
VERSION:2.0
PRODID:SchoolNow
CALSCALE:GREGORIAN
BEGIN:VEVENT
UID:ad096aa0-3bfb-11f1-9254-0a58a9feac02
DTSTAMP:20260419T142555Z
SUMMARY:Wenatchee Soccer Club: Wenatchee Soccer Club Practice
LOCATION:Lee Outdoor Fields - Lee-South Field
URL;VALUE=URI:https://www.eastmont206.org/lee/calendar/9005165/wenatchee-so
 ccer-club-wenatchee-soccer-club-practice
DTSTART:20260529T000000Z
DTEND:20260529T030000Z
END:VEVENT
END:VCALENDAR
