BEGIN:VCALENDAR
VERSION:2.0
PRODID:SchoolNow
CALSCALE:GREGORIAN
BEGIN:VEVENT
UID:7de0d08a-ab8b-11ef-afdf-02d76aa1e62f
DTSTAMP:20250318T091512Z
SUMMARY:Wenatchee Valley United SC: Wenatchee United SC Training
LOCATION:Rock Island Elementary - Rock Island-Gym
URL;VALUE=URI:https://www.eastmont206.org/rock/calendar/7080118/wenatchee-v
 alley-united-sc-wenatchee-united-sc-training
DTSTART:20250225T014000Z
DTEND:20250225T042000Z
END:VEVENT
END:VCALENDAR
