BEGIN:VCALENDAR
VERSION:2.0
PRODID:SchoolNow
CALSCALE:GREGORIAN
BEGIN:VEVENT
UID:7de0d274-ab8b-11ef-99d8-02d76aa1e62f
DTSTAMP:20250318T091512Z
SUMMARY:Wenatchee Valley United SC: Wenatchee United SC Training
LOCATION:Rock Island Elementary - Rock Island-Gym
URL;VALUE=URI:https://www.eastmont206.org/rock/calendar/7080120/wenatchee-v
 alley-united-sc-wenatchee-united-sc-training
DTSTART:20250227T014000Z
DTEND:20250227T042000Z
END:VEVENT
END:VCALENDAR
