BEGIN:VCALENDAR
VERSION:2.0
PRODID:SchoolNow
CALSCALE:GREGORIAN
BEGIN:VEVENT
UID:6104a15c-bb4f-11ef-9d68-0a58a9feac02
DTSTAMP:20250318T091512Z
SUMMARY:Milan fc: Soccer practice
LOCATION:Rock Island Elementary - EHS-Aux Gym\, Rock Island-Gym
URL;VALUE=URI:https://www.eastmont206.org/rock/calendar/7178291/milan-fc-so
 ccer-practice
DTSTART:20250222T013500Z
DTEND:20250222T032500Z
END:VEVENT
END:VCALENDAR
