BEGIN:VCALENDAR
VERSION:2.0
PRODID:SchoolNow
CALSCALE:GREGORIAN
BEGIN:VEVENT
UID:5743dd06-c723-11ef-979d-0affeeff0747
DTSTAMP:20250318T091512Z
SUMMARY:Wenatchee Valley United SC: Wenatchee United SC Training
LOCATION:Rock Island Elementary - Rock Island-Gym
URL;VALUE=URI:https://www.eastmont206.org/rock/calendar/7247550/wenatchee-v
 alley-united-sc-wenatchee-united-sc-training
DTSTART:20250222T034000Z
DTEND:20250222T045000Z
END:VEVENT
END:VCALENDAR
