BEGIN:VCALENDAR
VERSION:2.0
PRODID:SchoolNow
CALSCALE:GREGORIAN
BEGIN:VEVENT
UID:dd0edb2a-cfcf-11ef-a3c1-0a58a9feac02
DTSTAMP:20250318T091512Z
SUMMARY:Rock Island Elementary Staff: Music Concert
LOCATION:Rock Island Elementary - Rock Island-Gym
URL;VALUE=URI:https://www.eastmont206.org/rock/calendar/7298665/rock-island
 -elementary-staff-music-concert
DTSTART:20250327T230000Z
DTEND:20250328T030000Z
END:VEVENT
END:VCALENDAR
