BEGIN:VCALENDAR
VERSION:2.0
PRODID:SchoolNow
CALSCALE:GREGORIAN
BEGIN:VEVENT
UID:450f1cde-ec32-11ef-ac52-0a58a9feac02
DTSTAMP:20250318T091512Z
SUMMARY:Wild fire: Soccer training
LOCATION:Rock Island Elementary - Cascade-Gym\, Clovis-Main Gym\, Kenroy-Gy
 m\, Rock Island-Gym
URL;VALUE=URI:https://www.eastmont206.org/rock/calendar/7475461/wild-fire-s
 occer-training
DTSTART:20250314T003000Z
DTEND:20250314T023000Z
END:VEVENT
END:VCALENDAR
