BEGIN:VCALENDAR
VERSION:2.0
PRODID:SchoolNow
CALSCALE:GREGORIAN
BEGIN:VEVENT
UID:c39400a6-f4de-11ef-8efb-0a58a9feac02
DTSTAMP:20250318T091512Z
SUMMARY:Wenatchee Valley United SC: Wenatchee United SC Training
LOCATION:Rock Island Elementary - Rock Island-Gym
URL;VALUE=URI:https://www.eastmont206.org/rock/calendar/7560024/wenatchee-v
 alley-united-sc-wenatchee-united-sc-training
DTSTART:20250308T013000Z
DTEND:20250308T043000Z
END:VEVENT
END:VCALENDAR
