BEGIN:VCALENDAR
VERSION:2.0
PRODID:SchoolNow
CALSCALE:GREGORIAN
BEGIN:VEVENT
UID:5e262766-f73c-11ef-988f-0e45119e7c89
DTSTAMP:20250318T091512Z
SUMMARY:Wenatchee Valley United SC: Wenatchee United SC Training
LOCATION:Rock Island Elementary - Rock Island-Gym
URL;VALUE=URI:https://www.eastmont206.org/rock/calendar/7583516/wenatchee-v
 alley-united-sc-wenatchee-united-sc-training
DTSTART:20250312T003000Z
DTEND:20250312T033000Z
END:VEVENT
END:VCALENDAR
