BEGIN:VCALENDAR
VERSION:2.0
PRODID:SchoolNow
CALSCALE:GREGORIAN
BEGIN:VEVENT
UID:7f0bde4a-03d9-11f0-9b07-0e7d68aba7e5
DTSTAMP:20250318T091512Z
SUMMARY:Rock Island PTO: 1st Annual Rock Island Market
LOCATION:Rock Island Elementary - Rock Island Cafeteria\, Rock Island-Gym\,
  Rock Island-North Field\, Rock Island-Parking Lot
URL;VALUE=URI:https://www.eastmont206.org/rock/calendar/7712262/rock-island
 -pto-1st-annual-rock-island-market
DTSTART:20250530T163000Z
DTEND:20250530T223000Z
END:VEVENT
END:VCALENDAR
