BEGIN:VCALENDAR
VERSION:2.0
PRODID:SchoolNow
CALSCALE:GREGORIAN
BEGIN:VEVENT
UID:7f0c314c-03d9-11f0-8926-0e7d68aba7e5
DTSTAMP:20250318T091512Z
SUMMARY:Rock Island Elementary Staff: 1st Annual Rock Island Market
LOCATION:Rock Island Elementary - Rock Island-Gym\, Rock Island-North Field
 \, Rock Island-Parking Lot
URL;VALUE=URI:https://www.eastmont206.org/rock/calendar/7712265/rock-island
 -elementary-staff-1st-annual-rock-island-market
DTSTART:20250531T163000Z
DTEND:20250531T223000Z
END:VEVENT
END:VCALENDAR
