BEGIN:VCALENDAR
VERSION:2.0
PRODID:SchoolNow
CALSCALE:GREGORIAN
BEGIN:VEVENT
UID:a60d377e-3c94-11f1-997b-0252571210c7
DTSTAMP:20260420T084056Z
SUMMARY:Wenatchee Soccer Club: Wenatchee Soccer Club Practice
LOCATION:Rock Island Outdoor Fields - Rock Island-North Field
URL;VALUE=URI:https://www.eastmont206.org/rock/calendar/9006424/wenatchee-s
 occer-club-wenatchee-soccer-club-practice
DTSTART:20260411T000000Z
DTEND:20260411T030000Z
END:VEVENT
END:VCALENDAR
