BEGIN:VCALENDAR
VERSION:2.0
PRODID:SchoolNow
CALSCALE:GREGORIAN
BEGIN:VEVENT
UID:a60d3896-3c94-11f1-8b05-0252571210c7
DTSTAMP:20260420T084056Z
SUMMARY:Wenatchee Valley United SC: Wenatchee United SC Training
LOCATION:Rock Island Outdoor Fields - Rock Island-North Field
URL;VALUE=URI:https://www.eastmont206.org/rock/calendar/9006425/wenatchee-v
 alley-united-sc-wenatchee-united-sc-training
DTSTART:20260416T003000Z
DTEND:20260416T030000Z
END:VEVENT
END:VCALENDAR
