BEGIN:VCALENDAR
VERSION:2.0
PRODID:SchoolNow
CALSCALE:GREGORIAN
BEGIN:VEVENT
UID:c5ac79fe-3cc7-11f1-991a-0a58a9feac02
DTSTAMP:20260420T144653Z
SUMMARY:Wenatchee Valley United SC: Wenatchee United SC Training
LOCATION:Rock Island Outdoor Fields - Rock Island-North Field
URL;VALUE=URI:https://www.eastmont206.org/rock/calendar/9007237/wenatchee-v
 alley-united-sc-wenatchee-united-sc-training
DTSTART:20260506T003000Z
DTEND:20260506T030000Z
END:VEVENT
END:VCALENDAR
