BEGIN:VCALENDAR
VERSION:2.0
PRODID:SchoolNow
CALSCALE:GREGORIAN
BEGIN:VEVENT
UID:c5ac7cc4-3cc7-11f1-b17b-0a58a9feac02
DTSTAMP:20260420T144653Z
SUMMARY:Wenatchee Soccer Club: Wenatchee Soccer Club Practice
LOCATION:Rock Island Outdoor Fields - Rock Island-North Field
URL;VALUE=URI:https://www.eastmont206.org/rock/calendar/9007246/wenatchee-s
 occer-club-wenatchee-soccer-club-practice
DTSTART:20260509T000000Z
DTEND:20260509T030000Z
END:VEVENT
END:VCALENDAR
