BEGIN:VCALENDAR
VERSION:2.0
PRODID:SchoolNow
CALSCALE:GREGORIAN
BEGIN:VEVENT
UID:c5ac7ea4-3cc7-11f1-871b-0a58a9feac02
DTSTAMP:20260420T144653Z
SUMMARY:Wenatchee Valley United SC: Wenatchee United SC Training
LOCATION:Rock Island Outdoor Fields - Rock Island-North Field
URL;VALUE=URI:https://www.eastmont206.org/rock/calendar/9007251/wenatchee-v
 alley-united-sc-wenatchee-united-sc-training
DTSTART:20260513T003000Z
DTEND:20260513T030000Z
END:VEVENT
END:VCALENDAR
