BEGIN:VCALENDAR
VERSION:2.0
PRODID:SchoolNow
CALSCALE:GREGORIAN
BEGIN:VEVENT
UID:bd67d8d0-f3b9-11eb-b058-0a360b6bfacd
DTSTAMP:20220131T192150Z
SUMMARY:Regular Meeting & Site Visit at Grant Elementary - January 10\, 202
 2
URL;VALUE=URI:https://www.eastmont206.org/school-board/calendar/2652425/reg
 ular-meeting-site-visit-at-grant-elementary-january-10-2022
DTSTART:20220111T013000Z
DTEND:20220111T023000Z
END:VEVENT
END:VCALENDAR
