BEGIN:VCALENDAR
VERSION:2.0
PRODID:SchoolNow
CALSCALE:GREGORIAN
BEGIN:VEVENT
UID:f09880ce-f3b9-11eb-b305-0a360b6bfacd
DTSTAMP:20220304T002442Z
SUMMARY:Regular Meeting - January 24\, 2022
URL;VALUE=URI:https://www.eastmont206.org/school-board/calendar/2652429/reg
 ular-meeting-site-visit-at-lee-elementary-january-24-2022
DTSTART:20220125T013000Z
DTEND:20220125T023000Z
END:VEVENT
END:VCALENDAR
