BEGIN:VCALENDAR
VERSION:2.0
PRODID:SchoolNow
CALSCALE:GREGORIAN
BEGIN:VEVENT
UID:e499687c-c6de-11f0-96bb-0afff47f5237
DTSTAMP:20251121T133506Z
SUMMARY:Eastmont High School Staff: EHS SOFTBALL PRACTICE
LOCATION:Sterling Outdoor Fields - Sterling-Four-Plex Field #4
URL;VALUE=URI:https://www.eastmont206.org/sis/calendar/8807326/eastmont-hig
 h-school-staff-ehs-softball-practice
DTSTART:20251022T221500Z
DTEND:20251023T003000Z
END:VEVENT
END:VCALENDAR
