BEGIN:VCALENDAR
VERSION:2.0
PRODID:SchoolNow
CALSCALE:GREGORIAN
BEGIN:VEVENT
UID:e4996caa-c6de-11f0-bd22-0afff47f5237
DTSTAMP:20251121T133506Z
SUMMARY:NCW SUNDEVILS: NCW Sundevils
LOCATION:Sterling Outdoor Fields - Sterling-Four-Plex Field #3
URL;VALUE=URI:https://www.eastmont206.org/sis/calendar/8807327/ncw-sundevil
 s-ncw-sundevils
DTSTART:20251023T003000Z
DTEND:20251023T030000Z
END:VEVENT
END:VCALENDAR
