BEGIN:VCALENDAR
VERSION:2.0
PRODID:SchoolNow
CALSCALE:GREGORIAN
BEGIN:VEVENT
UID:e4997056-c6de-11f0-8dcf-0afff47f5237
DTSTAMP:20251121T133506Z
SUMMARY:Wenatchee Timberwolves: Wenatchee Timberwolves practice
LOCATION:Sterling Outdoor Fields - Sterling-Four-Plex Field #3
URL;VALUE=URI:https://www.eastmont206.org/sis/calendar/8807330/wenatchee-ti
 mberwolves-wenatchee-timberwolves-practice
DTSTART:20251023T233000Z
DTEND:20251024T023000Z
END:VEVENT
END:VCALENDAR
