BEGIN:VCALENDAR
VERSION:2.0
PRODID:SchoolNow
CALSCALE:GREGORIAN
BEGIN:VEVENT
UID:e49979f2-c6de-11f0-874f-0afff47f5237
DTSTAMP:20251121T133506Z
SUMMARY:Wenatchee Valley United SC: Wenatchee United SC
LOCATION:Sterling Outdoor Fields - Sterling-Lower Field
URL;VALUE=URI:https://www.eastmont206.org/sis/calendar/8807340/wenatchee-va
 lley-united-sc-wenatchee-united-sc
DTSTART:20251101T010000Z
DTEND:20251101T030000Z
END:VEVENT
END:VCALENDAR
